BEGIN:VCALENDAR
VERSION:2.0
PRODID:-//kulturscheune höchberg - ECPv5.8.0//NONSGML v1.0//EN
CALSCALE:GREGORIAN
METHOD:PUBLISH
X-WR-CALNAME:kulturscheune höchberg
X-ORIGINAL-URL:https://www.kulturscheune-hoechberg.de
X-WR-CALDESC:Events for kulturscheune höchberg
BEGIN:VTIMEZONE
TZID:Europe/Berlin
BEGIN:DAYLIGHT
TZOFFSETFROM:+0100
TZOFFSETTO:+0200
TZNAME:CEST
DTSTART:20260329T010000
END:DAYLIGHT
BEGIN:STANDARD
TZOFFSETFROM:+0200
TZOFFSETTO:+0100
TZNAME:CET
DTSTART:20261025T010000
END:STANDARD
END:VTIMEZONE
BEGIN:VEVENT
DTSTART;TZID=Europe/Berlin:20260705T160000
DTEND;TZID=Europe/Berlin:20260705T160000
DTSTAMP:20260425T042713
CREATED:20251112T080024Z
LAST-MODIFIED:20251104T123321Z
UID:4463-1783267200-1783267200@www.kulturscheune-hoechberg.de
SUMMARY:Oldtime Jazz and Good Ol' Swing
DESCRIPTION:Blue Friday Jazz Lounge \nDie Jazzreihe in der Kulturscheune Höchberg. Der Kontrabassist Felix Wiegand präsentiert alle 2 Monate besondere Projekte und Programme mit eigens hierfür zusammengestellten Gastmusikern aus der überregionalen und hiesigen Musikszene. \n05.07.2026 / 16:00 Uhr \nOldtime Jazz and Good Ol´Swing \n\nTrevor Richards meets Richard Roblee \nAuch diese Jahr ist das Zusammentreffen von Prof. Richard Roblee (Posaune) und  Trevor Richards (Drums)wieder ein ganz besonderes  Oldtimejazz Highlight.  Richard Roblee geboren in USA war über 25 Jahre lang Professor für Jazz Posaune an  der Hochschule für Musik Würzburg und der gebürtige Engländer Trevor Richards arbeitete 30 Jahre in New Orleans als Profischlagzeuger. \nZusammen mit Sebastian Strempel (Trompete) und Frank Adelt (Piano) swingen sich die  beiden Legenden wieder durch die Jazzgeschichte. \nfeat. Trevor Richards (drums) meets Richard Roblee (Posaune) / Sebastian Strempel  (Trompete )/ Frank Adelt (Piano) / Rudi Engel (Kontrabass) \n\n  \nWeitere Blue Friday Jazzlounge Termine: \n30.01.2026 The Golden Swing Ära \n13.03.2026 The Wes Montgomery Songbook \n08.05.2026 Blue Friday Jazzounge präsentiert Special Guest Tony Lakatos \n05.07.2026 Oldtime Jazz and Good Ol‘ Swing \n16.10.2026 tba \n11.12.2026 tba
URL:https://www.kulturscheune-hoechberg.de/event/20260705/
LOCATION:Kulturscheune Höchberg\, Wallweg 3\, Höchberg\, 97204
CATEGORIES:Jazz,Konzert
ATTACH;FMTTYPE=image/jpeg:https://www.kulturscheune-hoechberg.de/wp-content/uploads/2025/11/C_MichaelHeinz.jpg
GEO:49.7829227;9.878644
X-APPLE-STRUCTURED-LOCATION;VALUE=URI;X-ADDRESS=Kulturscheune Höchberg Wallweg 3 Höchberg 97204;X-APPLE-RADIUS=500;X-TITLE=Wallweg 3:geo:9.878644,49.7829227
END:VEVENT
END:VCALENDAR