BEGIN:VCALENDAR
VERSION:2.0
PRODID:-//kulturscheune höchberg - ECPv5.8.0//NONSGML v1.0//EN
CALSCALE:GREGORIAN
METHOD:PUBLISH
X-WR-CALNAME:kulturscheune höchberg
X-ORIGINAL-URL:https://www.kulturscheune-hoechberg.de
X-WR-CALDESC:Events for kulturscheune höchberg
BEGIN:VTIMEZONE
TZID:Europe/Berlin
BEGIN:DAYLIGHT
TZOFFSETFROM:+0100
TZOFFSETTO:+0200
TZNAME:CEST
DTSTART:20260329T010000
END:DAYLIGHT
BEGIN:STANDARD
TZOFFSETFROM:+0200
TZOFFSETTO:+0100
TZNAME:CET
DTSTART:20261025T010000
END:STANDARD
END:VTIMEZONE
BEGIN:VEVENT
DTSTART;TZID=Europe/Berlin:20260613T193000
DTEND;TZID=Europe/Berlin:20260613T193000
DTSTAMP:20260424T172211
CREATED:20251112T080049Z
LAST-MODIFIED:20260305T113439Z
UID:4286-1781379000-1781379000@www.kulturscheune-hoechberg.de
SUMMARY:Mathias Tretter
DESCRIPTION:„Souverän ist\, wer über den Ausnahmezustand entscheidet.“ – Carl Schmitt war auch so ein Großmaul\, sonst wäre er nicht Görings Eierlikör geworden. Deutschlands ärgster Advokat schrieb den berühmten Satz 1928\, seitdem kauen wir drauf rum. Kaum hundert Jahre später ist an jeder Ecke Ausnahmezustand – aber wer ist Souverän? Die einen sagen so\, die anderen: das Volk. Die Wahrheit liegt wie immer ganz woanders. Mathias Tretter findet sie mal wieder bei Freund Ansgar: „Bekifft sein ist Ausnahmezustand\, und ich hab’ mich für ihn entschieden.“ Der Demokratie mag die Herrschaft allmählich abhandenkommen\, deshalb muss man noch lange nicht die Selbstbeherrschung verlieren. Es sei denn\, man nässt sich ein vor Lachen – aber ist das nicht das Souveränste überhaupt? „Sie werden wiehern“\, sagt Tretter\, der seit dem Salzburger Stier 2023 nun endgültig mit jedem Kabarettpreis ausgezeichnet ist. Dennoch ist sein neuestes Stück vielleicht sein komischstes: „Sie werden feixen\, prusten\, schnappatmen und am Ende unverwundbar heimgehen.“ Mit anderen Worten: Souverän. Der Name ist Programm. \nRegie: Mathias Repiscus \n  \nEinlass 18:30 Uhr\nBeginn 19:30 Uhr \n\n\n\nSitzveranstaltung \n  \n    Mit dem Laden des Videos akzeptieren Sie die Datenschutzerklärung von YouTube.Mehr erfahren  Video laden   YouTube immer entsperren
URL:https://www.kulturscheune-hoechberg.de/event/20260613/
LOCATION:Kulturscheune Höchberg\, Wallweg 3\, Höchberg\, 97204
CATEGORIES:Kabarett
ATTACH;FMTTYPE=image/jpeg:https://www.kulturscheune-hoechberg.de/wp-content/uploads/2025/11/MathiasTretterSouveraenPressebild1quer_copyby_EnricoMeyer.jpg
GEO:49.7829227;9.878644
X-APPLE-STRUCTURED-LOCATION;VALUE=URI;X-ADDRESS=Kulturscheune Höchberg Wallweg 3 Höchberg 97204;X-APPLE-RADIUS=500;X-TITLE=Wallweg 3:geo:9.878644,49.7829227
END:VEVENT
END:VCALENDAR