BEGIN:VCALENDAR
VERSION:2.0
PRODID:-//kulturscheune höchberg - ECPv5.8.0//NONSGML v1.0//EN
CALSCALE:GREGORIAN
METHOD:PUBLISH
X-WR-CALNAME:kulturscheune höchberg
X-ORIGINAL-URL:https://www.kulturscheune-hoechberg.de
X-WR-CALDESC:Events for kulturscheune höchberg
BEGIN:VTIMEZONE
TZID:Europe/Berlin
BEGIN:DAYLIGHT
TZOFFSETFROM:+0100
TZOFFSETTO:+0200
TZNAME:CEST
DTSTART:20260329T010000
END:DAYLIGHT
BEGIN:STANDARD
TZOFFSETFROM:+0200
TZOFFSETTO:+0100
TZNAME:CET
DTSTART:20261025T010000
END:STANDARD
END:VTIMEZONE
BEGIN:VEVENT
DTSTART;TZID=Europe/Berlin:20260503T110000
DTEND;TZID=Europe/Berlin:20260503T180000
DTSTAMP:20260422T110426
CREATED:20260319T110021Z
LAST-MODIFIED:20260319T110330Z
UID:4922-1777806000-1777831200@www.kulturscheune-hoechberg.de
SUMMARY:OHA! - ein Designmarkt
DESCRIPTION:Oha! ein Designmarkt — Frühlingsfest für Liebhaber schöner Dinge & einer guten Zeit.\nAnfang Mai verwandelt sich die kulturscheune höchberg schon zum siebten mal in ein Shopping-Paradies der besonderen Art. Rund 35 junge DesignerInnen\, kreative Label und kleine Manufakturen präsentieren ihre handgefertigten Produkte. Zu bestaunen\, genießen und natürlich zu erwerben gibt es hochwertige Keramik\, künstlerische Prints\, stylische Accessoires\, eleganten Schmuck\, einzigartige Mode\, bezaubernde Kindersachen\, farbenfrohe Wohnaccessoires\, feine Köstlichkeiten und vieles mehr. \nKurzum: Kreatives und Köstliches von und für Menschen\, denen Nachhaltigkeit am Herzen liegt. \nWährend des Marktes kann man die kreativen Köpfe hinter den Werken kennenlernen und bei Interesse mehr über deren Arbeitsweisen und Ideen erfahren. \n  \nNeben einem gastronomischem Angebot können sich die BesucherInnen bei geeignetem Wetter auf kreative Specials freuen. Unter anderem wird es Poesie to go\, einen lebendigen Porträt-Automaten mit llustratorInnen\, eine kleine Tombola und entspannende Massagen sowie eine Bastelecke für die Kleinen im Garten geben. \nViele gute Gründe also für einen unvergesslichen Ausflug mit der ganzen Familie! \nKann man den Frühling gebührender begrüßen? Wohl kaum\, denkt Britta Manger – und freut sich auf eine weitere bunte Ausgabe des Oha! ein Designmarkt – mit Sonne\, Charme und allem erdenklich Schönem. \nDas endgültige Rahmenprogramm sowie alle AusstellerInnen und wichtige Marktinformationen stehen kurz vor dem Markt auf der Webseite der Veranstaltung und bei Instagram. \n\nVeranstaltungsinformationen:\nOha! ein Designmarkt \nSonntag | 03. Mai 2026\nÖffnungszeiten: 11 – 18 Uhr \nkulturscheune höchberg\nAdresse: Wallweg 3\, 97204 Höchberg\nEintritt: 3 Euro\, Kinder bis 14 Jahre kostenlos \nInstagram: www.instagram.com/oha_ein_designmarkt \nWebsite: www.oha-ein-designmarkt.de\n\nBitte beachten: \n– Anfahrt: Parkplätze befinden sich im Ort verteilt\, jedoch nicht an der Kulturscheune direkt\, da der Parkplatz Teil der Veranstaltung ist und der kleine Wallweg für Autos gesperrt wird. Bitte dazu Infos auf der Webseite beachten und wenn es geht zu Fuß\, mit dem Rad oder den öffentlichen Verkehrsmitteln kommen. \n– Tiere sind im Innenraum der Kulturscheune leider nicht erlaubt! \n– Kinderwägen sollten\, bei Platzmangel innen\, vor der Kulturscheune abgestellt werden. \n– Bei geeignetem Wetter wird der Garten geöffnet und Rahmenprogramm & Aussteller erweitert\, Infos dazu kurz vorher auf der Webseite.
URL:https://www.kulturscheune-hoechberg.de/event/oha-20260503/
LOCATION:Kulturscheune Höchberg\, Wallweg 3\, Höchberg\, 97204
CATEGORIES:Markt
ATTACH;FMTTYPE=image/jpeg:https://www.kulturscheune-hoechberg.de/wp-content/uploads/2026/03/Bild.jpg
GEO:49.7829227;9.878644
X-APPLE-STRUCTURED-LOCATION;VALUE=URI;X-ADDRESS=Kulturscheune Höchberg Wallweg 3 Höchberg 97204;X-APPLE-RADIUS=500;X-TITLE=Wallweg 3:geo:9.878644,49.7829227
END:VEVENT
END:VCALENDAR