BEGIN:VCALENDAR
VERSION:2.0
PRODID:-//kulturscheune höchberg - ECPv5.8.0//NONSGML v1.0//EN
CALSCALE:GREGORIAN
METHOD:PUBLISH
X-WR-CALNAME:kulturscheune höchberg
X-ORIGINAL-URL:https://www.kulturscheune-hoechberg.de
X-WR-CALDESC:Events for kulturscheune höchberg
BEGIN:VTIMEZONE
TZID:Europe/Berlin
BEGIN:DAYLIGHT
TZOFFSETFROM:+0100
TZOFFSETTO:+0200
TZNAME:CEST
DTSTART:20240331T010000
END:DAYLIGHT
BEGIN:STANDARD
TZOFFSETFROM:+0200
TZOFFSETTO:+0100
TZNAME:CET
DTSTART:20241027T010000
END:STANDARD
END:VTIMEZONE
BEGIN:VEVENT
DTSTART;TZID=Europe/Berlin:20240310T110000
DTEND;TZID=Europe/Berlin:20240310T110000
DTSTAMP:20260422T104648
CREATED:20240125T124150Z
LAST-MODIFIED:20240125T124902Z
UID:2896-1710068400-1710068400@www.kulturscheune-hoechberg.de
SUMMARY:5. Festival Lied in Würzburg
DESCRIPTION:SEFARAD\nEin lyrischer Exodus \nLou Denès\, Sopran\nMartin Dressler\, Gitarre \nLieder von Maurice Ravel\, Mario Castelnuovo-Tedesco\, Joaquín Rodrigo\, Sidney Corbett\, Reynaldo Hahn \n  \nEine Veranstaltung von Festival Lied in Würzburg: Eintritt frei\, Spenden erbeten. \nHomepage Festival Lied
URL:https://www.kulturscheune-hoechberg.de/event/festival-lied-2024/
LOCATION:Kulturscheune Höchberg\, Wallweg 3\, Höchberg\, 97204
CATEGORIES:Klassik,Konzert
ATTACH;FMTTYPE=image/jpeg:https://www.kulturscheune-hoechberg.de/wp-content/uploads/2024/01/116899_event_md_609.jpg
GEO:49.7829227;9.878644
X-APPLE-STRUCTURED-LOCATION;VALUE=URI;X-ADDRESS=Kulturscheune Höchberg Wallweg 3 Höchberg 97204;X-APPLE-RADIUS=500;X-TITLE=Wallweg 3:geo:9.878644,49.7829227
END:VEVENT
END:VCALENDAR