BEGIN:VCALENDAR
VERSION:2.0
PRODID:-//kulturscheune höchberg - ECPv5.8.0//NONSGML v1.0//EN
CALSCALE:GREGORIAN
METHOD:PUBLISH
X-WR-CALNAME:kulturscheune höchberg
X-ORIGINAL-URL:https://www.kulturscheune-hoechberg.de
X-WR-CALDESC:Events for kulturscheune höchberg
BEGIN:VTIMEZONE
TZID:Europe/Berlin
BEGIN:DAYLIGHT
TZOFFSETFROM:+0100
TZOFFSETTO:+0200
TZNAME:CEST
DTSTART:20240331T010000
END:DAYLIGHT
BEGIN:STANDARD
TZOFFSETFROM:+0200
TZOFFSETTO:+0100
TZNAME:CET
DTSTART:20241027T010000
END:STANDARD
END:VTIMEZONE
BEGIN:VEVENT
DTSTART;TZID=Europe/Berlin:20240308T193000
DTEND;TZID=Europe/Berlin:20240308T193000
DTSTAMP:20260424T104136
CREATED:20231115T083029Z
LAST-MODIFIED:20240227T134011Z
UID:2537-1709926200-1709926200@www.kulturscheune-hoechberg.de
SUMMARY:Teresa Reichl
DESCRIPTION:Sie ist wortgewandt\, sie ist niederbayerisch und sie kann was. Das behauptet die Kabarettistin Teresa Reichl provokant im Titel ihres Debütprogramms „Obacht\, i kann wos!“. Und sie hält Wort\, wenn sie in Anlehnung an Ereignisse aus ihrem bisherigen Leben Fragen aufwirft mit denen sie andere\, aber vor allem sich selbst schmerzhaft auseinandernimmt.\nWarum sind eigentlich alle Gedichte\, die man im Germanistikstudium so liest\, von Männern? Warum denken immer noch Leute\, dass auf dem Dorf eh alle verwandt sind? Wie ist das Aufwachsen in einem 400-Seelen-Dorf\, wenn ALLE den großen Bruder und die Eltern kennen? Was\, wenn die Dorf- Jugend vorwiegend eines aus einem macht: eine hervorragende Lügnerin. Wann hört das Wort „Mädchen“ auf\, als Beleidigung zu funktionieren? \nUnd was denken sich berühmte Bands\, wenn ihre Fans hässlich sind? Teresa Reichl befragt sich und ihr Publikum\, ohne Angst davor zu haben\, keine Antworten zu finden. Denn sie hat das Dorfleben mit in die Stadt\, die klassischen Geschlechterrollen mit in die Emanzipation genommen und ist dabei\, herauszufinden\, wie man denn so zu leben hat als Feministin\, Rampensau\, Studentin\, Frau und Dorfkind – und wer eigentlich ein Recht hat\, ihr irgendwas vorzuschreiben?\nTeresa Reichls amüsante Bestandsaufnahme nach fast einem Vierteljahrhundert Frauenleben schlägt mit Leichtigkeit den Bogen zwischen den Publikums-Generationen und führt jeden mühelos an bis dato noch unbekannte oder unbeliebte Themenwelten heran.\nWer einen Abend mit ihr erlebt hat\, versteht plötzlich die Dynamik hinter Religionen (oder auch Verschwörungstheorien)\, der Spagat ist keine Illusion und Feminismus ist kein Schimpfwort mehr. \nEinlass 18:30 Uhr\nBeginn 19:30 Uhr\n    Mit dem Laden des Videos akzeptieren Sie die Datenschutzerklärung von YouTube.Mehr erfahren  Video laden   YouTube immer entsperren    \n    Mit dem Laden des Videos akzeptieren Sie die Datenschutzerklärung von YouTube.Mehr erfahren  Video laden   YouTube immer entsperren
URL:https://www.kulturscheune-hoechberg.de/event/teresareichl/
LOCATION:Kulturscheune Höchberg\, Wallweg 3\, Höchberg\, 97204
CATEGORIES:Kabarett
ATTACH;FMTTYPE=image/jpeg:https://www.kulturscheune-hoechberg.de/wp-content/uploads/2023/11/1637538273636478956_bc59d317-e4f3-4bf4-ad59-6ce7b9ebe790-scaled.jpg
GEO:49.7829227;9.878644
X-APPLE-STRUCTURED-LOCATION;VALUE=URI;X-ADDRESS=Kulturscheune Höchberg Wallweg 3 Höchberg 97204;X-APPLE-RADIUS=500;X-TITLE=Wallweg 3:geo:9.878644,49.7829227
END:VEVENT
END:VCALENDAR