BEGIN:VCALENDAR
VERSION:2.0
PRODID:-//kulturscheune höchberg - ECPv5.8.0//NONSGML v1.0//EN
CALSCALE:GREGORIAN
METHOD:PUBLISH
X-WR-CALNAME:kulturscheune höchberg
X-ORIGINAL-URL:https://www.kulturscheune-hoechberg.de
X-WR-CALDESC:Events for kulturscheune höchberg
BEGIN:VTIMEZONE
TZID:Europe/Berlin
BEGIN:DAYLIGHT
TZOFFSETFROM:+0100
TZOFFSETTO:+0200
TZNAME:CEST
DTSTART:20240331T010000
END:DAYLIGHT
BEGIN:STANDARD
TZOFFSETFROM:+0200
TZOFFSETTO:+0100
TZNAME:CET
DTSTART:20241027T010000
END:STANDARD
END:VTIMEZONE
BEGIN:VEVENT
DTSTART;TZID=Europe/Berlin:20240204T180000
DTEND;TZID=Europe/Berlin:20240204T180000
DTSTAMP:20260421T165212
CREATED:20230907T070829Z
LAST-MODIFIED:20231215T105649Z
UID:2387-1707069600-1707069600@www.kulturscheune-hoechberg.de
SUMMARY:Django Asül
DESCRIPTION:Kaum ist das Visier offen\, hat Django Asül urplötzlich einen ganz anderen Blick auf die Dinge. Raus aus der Filterblase\, rein in den Weitwinkel. Und vor allem: Raus in die weite Welt. Django Asül treibt sich herum von Marseille über Malta bis in den Nahen Osten. Und schon hagelt es Erkenntnisse auf die drängendsten Fragen: Wieso ist Malta das ideale EU-Land? Ist der Klimawandel eine Gefahr oder doch eher die Lösung wofür auch immer? Oder gilt das eher für die Digitalisierung? Und: Ist der Einzelne in der Gesellschaft tatsächlich ersetzlich oder eher entsetzlich? \nDenn mit offenem Visier sieht man nicht so sehr sich selbst\, aber umso mehr andere und anderes. Ganz gegen den Trend ignoriert Django Asül die Selbstoptimierung und setzt auf Fremdoptimierung. Dabei lernt er vor allem Verständnis und Verständigung und wird so zum Mediator zwischen den Fronten. \nWie das alles funktioniert? \nGanz einfach: Django zahlt sich selber ein Grundeinkommen. Und ist damit seiner Zeit weit voraus. Dieses Programm ist daher ein Muss für alle\, die den Weitblick nach innen und nach außen haben. \nEinlass 17 Uhr \nBeginn 18 Uhr \nSitzveranstaltung mit Sitzplatzreservierung \n©Dirk Beichert
URL:https://www.kulturscheune-hoechberg.de/event/djangoasuel/
LOCATION:Kulturscheune Höchberg\, Wallweg 3\, Höchberg\, 97204
CATEGORIES:Kabarett
ATTACH;FMTTYPE=image/jpeg:https://www.kulturscheune-hoechberg.de/wp-content/uploads/2023/09/B_Pressebild-Django-Offenes-Visier_©DirkBeichert-scaled.jpg
GEO:49.7829227;9.878644
X-APPLE-STRUCTURED-LOCATION;VALUE=URI;X-ADDRESS=Kulturscheune Höchberg Wallweg 3 Höchberg 97204;X-APPLE-RADIUS=500;X-TITLE=Wallweg 3:geo:9.878644,49.7829227
END:VEVENT
END:VCALENDAR