BEGIN:VCALENDAR
VERSION:2.0
PRODID:-//kulturscheune höchberg - ECPv5.8.0//NONSGML v1.0//EN
CALSCALE:GREGORIAN
METHOD:PUBLISH
X-WR-CALNAME:kulturscheune höchberg
X-ORIGINAL-URL:https://www.kulturscheune-hoechberg.de
X-WR-CALDESC:Events for kulturscheune höchberg
BEGIN:VTIMEZONE
TZID:Europe/Berlin
BEGIN:DAYLIGHT
TZOFFSETFROM:+0100
TZOFFSETTO:+0200
TZNAME:CEST
DTSTART:20240331T010000
END:DAYLIGHT
BEGIN:STANDARD
TZOFFSETFROM:+0200
TZOFFSETTO:+0100
TZNAME:CET
DTSTART:20241027T010000
END:STANDARD
END:VTIMEZONE
BEGIN:VEVENT
DTSTART;TZID=Europe/Berlin:20240203T193000
DTEND;TZID=Europe/Berlin:20240203T193000
DTSTAMP:20260421T153240
CREATED:20231115T083045Z
LAST-MODIFIED:20240204T102502Z
UID:2504-1706988600-1706988600@www.kulturscheune-hoechberg.de
SUMMARY:Beutelboxer
DESCRIPTION:Beim letzten Auftritt in der Kulturscheune war jeder Platz besetzt\, nun spielen sie wieder bei uns: die Beutelboxer. Vier sympathische und spritzige Schauspieler sowie ein wunderbarer Pianist\, die seit Jahren in der fränkischen Metropole für Furore sorgen\, werden Ihnen unvergessliche Geschichten nach Vorgaben des Publikums erzählen\, ein Feuerwerk von spontanen Ideen und Kreativität. Jede Szene entsteht im Augenblick\, einmalig und unwiederholbar. Ein absolutes Highlight\, ein unvergesslicher Abend der besonderen Klasse. Improtheater vom Feinsten. \nwww.beutelboxer.de \n\n\n\n\n\n\nEinlass 18:30 Uhr\nBeginn 19:30 Uhr \n  \n  \n\n 
URL:https://www.kulturscheune-hoechberg.de/event/beutelboxer24/
LOCATION:Kulturscheune Höchberg\, Wallweg 3\, Höchberg\, 97204
CATEGORIES:Improtheater,Konzert
ATTACH;FMTTYPE=image/jpeg:https://www.kulturscheune-hoechberg.de/wp-content/uploads/2023/10/Beutelboxer1348-klein.jpg
GEO:49.7829227;9.878644
X-APPLE-STRUCTURED-LOCATION;VALUE=URI;X-ADDRESS=Kulturscheune Höchberg Wallweg 3 Höchberg 97204;X-APPLE-RADIUS=500;X-TITLE=Wallweg 3:geo:9.878644,49.7829227
END:VEVENT
END:VCALENDAR