BEGIN:VCALENDAR
VERSION:2.0
PRODID:-//kulturscheune höchberg - ECPv5.8.0//NONSGML v1.0//EN
CALSCALE:GREGORIAN
METHOD:PUBLISH
X-WR-CALNAME:kulturscheune höchberg
X-ORIGINAL-URL:https://www.kulturscheune-hoechberg.de
X-WR-CALDESC:Events for kulturscheune höchberg
BEGIN:VTIMEZONE
TZID:Europe/Berlin
BEGIN:DAYLIGHT
TZOFFSETFROM:+0100
TZOFFSETTO:+0200
TZNAME:CEST
DTSTART:20230326T010000
END:DAYLIGHT
BEGIN:STANDARD
TZOFFSETFROM:+0200
TZOFFSETTO:+0100
TZNAME:CET
DTSTART:20231029T010000
END:STANDARD
END:VTIMEZONE
BEGIN:VEVENT
DTSTART;TZID=Europe/Berlin:20231209T143000
DTEND;TZID=Europe/Berlin:20231209T163000
DTSTAMP:20260425T035851
CREATED:20230516T094842Z
LAST-MODIFIED:20230720T074505Z
UID:2200-1702132200-1702139400@www.kulturscheune-hoechberg.de
SUMMARY:Kulturworkshop: BEATBOXING (12-17 Jahre)
DESCRIPTION:WORKSHOP „Faszination Stimme“ oder „Beatbox-Basics“\nOb Schlagzeug-Rhythmen\, Meeresrauschen oder das Sirren des Zahnarztbohrers – Paul Brenning hat diese und andere Sounds immer bei sich und braucht dazu kein aufwändiges Geräusche-Archiv oder Instrumentarium. Allein mit Mund\, Zunge und Stimme kann er die verrücktesten Geräusche und Instrumentenklänge erzeugen. Woher aber kommt Beatboxen? Woraus besteht ein einfacher Beat? Wie ist er aufgebaut? Und welche Mundakrobatik erfordert Beatboxen? Paul Brenning zeigt\, wie’s funktioniert. Für diesen Workshop braucht ihr keine Vorkenntnisse.\nIhr lernt wie ihr einen Beat nur mit Mund und Stimme erzeugt und eigene neue Beats kreieren könnt.\n\nVITA\nBeat Brenning alias Paul Brenning ist Sänger\, Beatboxer und Komponist und seit über zehn Jahren erfolgreich im In- und Ausland aktiv. Seit er 15 Jahre alt ist\, liebt er es\, alle möglichen Geräusche nachzumachen. 2019 erhielt der Kurzfilm „UNUM“\, zu dem er die Musik schrieb\, Gold in Cannes. Referententätigkeiten u.a. für das Vokalprojekt der Berliner Philharmoniker „Vokalhelden“ und das Goethe-Institut. Der Wahlberliner ist Kleinkunstpreisträger des Landes Baden-Württemberg mit seinem Duo „Acoustic Instinct“.\n\nTeilnehmer*innen dieses Workshops bekommen freien Eintritt zu seiner Abendveranstaltung.Für die Altersgruppe 12-17 Jahren. \nDauer: 14:30-16:30 Uhr \n\n\n\n\n\n\n 
URL:https://www.kulturscheune-hoechberg.de/event/beatboxing12-17-copy/
LOCATION:Kulturscheune Höchberg\, Wallweg 3\, Höchberg\, 97204
CATEGORIES:Für Kinder,Workshop
ATTACH;FMTTYPE=image/jpeg:https://www.kulturscheune-hoechberg.de/wp-content/uploads/2022/11/Beat-Brenning-Titelbild-WEB.jpg
GEO:49.7829227;9.878644
X-APPLE-STRUCTURED-LOCATION;VALUE=URI;X-ADDRESS=Kulturscheune Höchberg Wallweg 3 Höchberg 97204;X-APPLE-RADIUS=500;X-TITLE=Wallweg 3:geo:9.878644,49.7829227
END:VEVENT
BEGIN:VEVENT
DTSTART;TZID=Europe/Berlin:20231209T193000
DTEND;TZID=Europe/Berlin:20231209T193000
DTSTAMP:20260425T035851
CREATED:20230516T095104Z
LAST-MODIFIED:20230720T074451Z
UID:2204-1702150200-1702150200@www.kulturscheune-hoechberg.de
SUMMARY:Beat Brenning | Mega-Mundshow
DESCRIPTION:MEGA-MUNDSHOW \nB tz pfsch tz. Solche Sounds sind einem in der MEGA-MUNDSHOW schonmal begegnet. Wer jetzt an Beatbox denkt liegt richtig\, kratzt aber nur an der Oberfläche. BEAT BRENNING ist Mundakrobat der Extraklasse und kombiniert Elemente aus A Capella Gesang\, Songwriting\, Geräuschimitation und Beatboxing zu einer zündenden Mischung. Ein Feuerwerk aus Spaß\, Fantasie und Interaktion\, das zum Mitmachen und zur Spontaneität einlädt. \nVITA \nBeat Brenning alias Paul Brenning ist Sänger\, Beatboxer und Komponist und seit über zehn Jahren erfolgreich im In- und Ausland aktiv. Seit er 15 Jahre alt ist\, liebt er es\, alle möglichen Geräusche nachzumachen. 2019 erhielt der Kurzfilm „UNUM“\, zu dem er die Musik schrieb\, Gold in Cannes. Referententätigkeiten u.a. für das Vokalprojekt der Berliner Philharmoniker „Vokalhelden“ und das Goethe-Institut. Der Wahlberliner ist Kleinkunstpreisträger des Landes Baden-Württemberg mit seinem Duo „Acoustic Instinct“. \nTeilnehmer*innen des Workshops tagsüber haben bei der Abendveranstaltung freien Eintritt. \nEinlass 18:30 Uhr \nBeginn 19:30 Uhr \n\n\n\n\n\n\n 
URL:https://www.kulturscheune-hoechberg.de/event/beatbrenning-copy/
LOCATION:Kulturscheune Höchberg\, Wallweg 3\, Höchberg\, 97204
ATTACH;FMTTYPE=image/jpeg:https://www.kulturscheune-hoechberg.de/wp-content/uploads/2022/11/Beat-Brenning-Titelbild-WEB.jpg
GEO:49.7829227;9.878644
X-APPLE-STRUCTURED-LOCATION;VALUE=URI;X-ADDRESS=Kulturscheune Höchberg Wallweg 3 Höchberg 97204;X-APPLE-RADIUS=500;X-TITLE=Wallweg 3:geo:9.878644,49.7829227
END:VEVENT
END:VCALENDAR