BEGIN:VCALENDAR
VERSION:2.0
PRODID:-//kulturscheune höchberg - ECPv5.8.0//NONSGML v1.0//EN
CALSCALE:GREGORIAN
METHOD:PUBLISH
X-WR-CALNAME:kulturscheune höchberg
X-ORIGINAL-URL:https://www.kulturscheune-hoechberg.de
X-WR-CALDESC:Veranstaltungen für kulturscheune höchberg
BEGIN:VTIMEZONE
TZID:Europe/Berlin
BEGIN:DAYLIGHT
TZOFFSETFROM:+0100
TZOFFSETTO:+0200
TZNAME:CEST
DTSTART:20240331T010000
END:DAYLIGHT
BEGIN:STANDARD
TZOFFSETFROM:+0200
TZOFFSETTO:+0100
TZNAME:CET
DTSTART:20241027T010000
END:STANDARD
END:VTIMEZONE
BEGIN:VEVENT
DTSTART;TZID=Europe/Berlin:20240406T150000
DTEND;TZID=Europe/Berlin:20240406T150000
DTSTAMP:20260425T201309
CREATED:20240103T113934Z
LAST-MODIFIED:20240328T123856Z
UID:2870-1712415600-1712415600@www.kulturscheune-hoechberg.de
SUMMARY:ZaPPaloTT und die Comic-Helden
DESCRIPTION:Kartenvorverkauf ausschließlich über www.tickets.zappalott.de  \nEine Geschichte über das Anderssein und den Mut seinen eigenen Weg zu gehen… \nZaPPaloTT und die Comic-Helden  \nZauberei |Clownerie | Schau- & Puppenspiel und Musik\, das Kinder stark macht   \n „Tausendmal besser als Fernsehen.“ (Main-Post\, Pat Christ 2015) \nZauberer ZaPPaloTT liebt Comics über alles. Doch als er in seinem Lieblings-Comic schmökern will\, stellt er fest\, dass alle Seiten leer sind. Wo sind die Comic-Helden hin? \nGemeinsam mit dir will er das herausfinden. Es beginnt eine spannende Suche. Aber Augen auf\, denn die Comic-Helden sind nicht weit und schleichen durch den Wunderweg Nummer 9. Der Comic wird lebendig. Wird ZaPPaloTT je seinen Comic wieder lesen können? Können Zeichnungen lebendig werden? Gibt es schüchterne Superhelden? \nEin magisches Kinder-Mitmach-Abenteuer\, das Kinder stark macht \n„Dich gibt’s nur einmal auf der ganzen Welt\, was dich wirklich glücklich macht\, was dir gut gefällt\, das weißt nur du\, musst keinen anderen fragen.Mal Dein Leben wie du willst in den buntesten Farben!“ (KinderRevoluZionslied\, ZaPPaloTT) \nGeeignet für die ganze Familie (für Menschen von 3-99 Jahren) \nKulturscheune Höchberg |Wallweg 3 | 97204 Höchberg (bei Würzburg) \n  \nTermine: \nPremiere: 27. März 2024 15:00 Uhr \n01./03./05./06./07. April jeweils 15 Uhr \n(Sonntag und Ostermontag zusätzlich auch um 11 Uhr) \n  \nKarten: tickets.zappalott.de | VVK: 12\,- /9\,- erm. \n  \nWeitersagen! Freikartenkontingent für Familien\, die sich den Eintritt \nnicht leisten können. Weitere Infos: tickets.zappalott.de \nWeitere Infos:  www.zappalott.de
URL:https://www.kulturscheune-hoechberg.de/event/zappalott-ostern2024-6/
LOCATION:Kulturscheune Höchberg\, Wallweg 3\, Höchberg\, 97204
CATEGORIES:Für Kinder,Theater
ATTACH;FMTTYPE=image/jpeg:https://www.kulturscheune-hoechberg.de/wp-content/uploads/2024/01/Pressefoto-Foto-M.-Heinelt-Illustration-M.-Rienecker-scaled.jpg
GEO:49.7829227;9.878644
X-APPLE-STRUCTURED-LOCATION;VALUE=URI;X-ADDRESS=Kulturscheune Höchberg Wallweg 3 Höchberg 97204;X-APPLE-RADIUS=500;X-TITLE=Wallweg 3:geo:9.878644,49.7829227
END:VEVENT
END:VCALENDAR