BEGIN:VCALENDAR
VERSION:2.0
PRODID:-//kulturscheune höchberg - ECPv5.8.0//NONSGML v1.0//EN
CALSCALE:GREGORIAN
METHOD:PUBLISH
X-WR-CALNAME:kulturscheune höchberg
X-ORIGINAL-URL:https://www.kulturscheune-hoechberg.de
X-WR-CALDESC:Veranstaltungen für kulturscheune höchberg
BEGIN:VTIMEZONE
TZID:Europe/Berlin
BEGIN:DAYLIGHT
TZOFFSETFROM:+0100
TZOFFSETTO:+0200
TZNAME:CEST
DTSTART:20240331T010000
END:DAYLIGHT
BEGIN:STANDARD
TZOFFSETFROM:+0200
TZOFFSETTO:+0100
TZNAME:CET
DTSTART:20241027T010000
END:STANDARD
END:VTIMEZONE
BEGIN:VEVENT
DTSTART;TZID=Europe/Berlin:20240428T180000
DTEND;TZID=Europe/Berlin:20240428T180000
DTSTAMP:20260421T134845
CREATED:20231115T083047Z
LAST-MODIFIED:20240328T100753Z
UID:2556-1714327200-1714327200@www.kulturscheune-hoechberg.de
SUMMARY:TBC - Totales Bamberger Cabaret
DESCRIPTION:TBC hat einen weiteren Termin bestätigt. Sie kommen auch 2025 wieder zu uns – am 20. September 2025! Jetzt schon Karten für 2025 hier sichern! \nMACHT JA SONST KEINER \nEgal\, wo man hinschaut: Alle sind am Machen! Die einen machen ihre Arbeit\, die anderen nur Ärger\, einige machen gar nichts – und TBC macht das\, was TBC schon immer am besten kann: Spaß! Und warum? Ganz einfach: Macht ja sonst keiner!\nAlso hören Sie auf\, sich etwas vorzumachen – das können wir viel besser! Wir machen Ihnen von Sketchen über Songs\, Parodien und Luftschlagzeug so einiges vor – mit neuem Programm\, neuer Energie und neuem dritten Mann! Die beiden Alt-Macher Georg Koeniger und Florian Hoffmann haben den middelfränggischen Dausendsassa Martin Hanns klargemacht und starten wieder durch mit Mach 3!\nWo andere halblang machen\, macht TBC ganz lang – unter 90 Minuten kommen Sie an diesem Abend nicht raus! Lachbarkeitsstudien zeigen: Nur bei dieser fränkischen Kultgruppe gibt es die einzigartige Mischung aus Comedy\, Kabarett\, fränkischem Witz und frechem Weltscherz! Und das seit über 35 erfolgreichen Jahren!\nFalls Sie sich jetzt fragen\, warum Sie sich das ansehen sollten? Auch ganz einfach: Macht ja sonst keiner. \nEinlass 17 Uhr\nBeginn 18 Uhr\n© Nico Manger
URL:https://www.kulturscheune-hoechberg.de/event/tbc/
LOCATION:Kulturscheune Höchberg\, Wallweg 3\, Höchberg\, 97204
CATEGORIES:Kabarett
ATTACH;FMTTYPE=image/jpeg:https://www.kulturscheune-hoechberg.de/wp-content/uploads/2023/11/TBC_Presse_4_quer_Fotoby_Nico-Manger-scaled.jpg
GEO:49.7829227;9.878644
X-APPLE-STRUCTURED-LOCATION;VALUE=URI;X-ADDRESS=Kulturscheune Höchberg Wallweg 3 Höchberg 97204;X-APPLE-RADIUS=500;X-TITLE=Wallweg 3:geo:9.878644,49.7829227
END:VEVENT
END:VCALENDAR