BEGIN:VCALENDAR
VERSION:2.0
PRODID:-//kulturscheune höchberg - ECPv5.8.0//NONSGML v1.0//EN
CALSCALE:GREGORIAN
METHOD:PUBLISH
X-WR-CALNAME:kulturscheune höchberg
X-ORIGINAL-URL:https://www.kulturscheune-hoechberg.de
X-WR-CALDESC:Veranstaltungen für kulturscheune höchberg
BEGIN:VTIMEZONE
TZID:Europe/Berlin
BEGIN:DAYLIGHT
TZOFFSETFROM:+0100
TZOFFSETTO:+0200
TZNAME:CEST
DTSTART:20230326T010000
END:DAYLIGHT
BEGIN:STANDARD
TZOFFSETFROM:+0200
TZOFFSETTO:+0100
TZNAME:CET
DTSTART:20231029T010000
END:STANDARD
END:VTIMEZONE
BEGIN:VEVENT
DTSTART;TZID=Europe/Berlin:20230421T190000
DTEND;TZID=Europe/Berlin:20230421T190000
DTSTAMP:20260422T134924
CREATED:20221118T123841Z
LAST-MODIFIED:20230502T070534Z
UID:1650-1682103600-1682103600@www.kulturscheune-hoechberg.de
SUMMARY:Michael Martin
DESCRIPTION:Michael Martin präsentiert mit seiner neuer Multivision TERRA ein einzigartiges Portrait des Planeten Erde. \nFünf Jahre reiste er mit der Kamera um die Welt und fotografierte in der Arktis\, im Himalaya\, in den Anden\, im Südpazifik\, in Arabien\, im Amazonasbecken\, in den Savannen Ostafrikas sowie in der Taiga Sibiriens und den Steppen Zentralasiens. So entstanden zehn Gesichter der Erde\, welche neben faszinierenden Landschaften auch Tiere\, Pflanzen und Kulturen in allen Klimazonen unserer Erde vorstellen. \nMichael Martin beschäftigte sich neben den weltweiten\, abenteuerlichen Reisen aber auch mit der Geschichte der Erde\, die vor 4\,5 Milliarden Jahren im Chaos entstand und sich zu einem Planeten voller Leben und Vielfalt entwickelte. Er macht deutlich das die Erde in der Blüte ihrer Entwicklung stand\, als der Mensch vor 180 000 Jahren die Bühne des Lebens betrat und begann\, sie zu gestalten und inzwischen auch zu zerstören. \nMichael Martins neue Multivision TERRA zeichnet das ganz große Bild der Erde\, sie ist eine Verneigung vor der Schönheit der Natur und dem Wunder des Lebens. \nZur Person \nMichael Martin ist Fotograf\, Vortragsreferent\, Abenteurer und Diplom-Geograf. Seit 40 Jahren bereist er die Welt und berichtet darüber in Vorträgen\, Büchern und Fernsehfilmen. Zunächst war er in allen Wüsten der Erde unterwegs\, dann in Arktis und Antarktis und erreichte sowohl den Nordpol als auch den Südpol.Im Jahre 2017 begann er mit den weltweiten Reisen für sein bislang größtes Projekts\, einem Portrait des Planeten Erde. Es trägt den Namen TERRA. \nMichael Martin veröffentlichte 30 Bildbände und Bücher\, die in neun Sprachen übersetzt wurden\, hielt über 2000 Vorträge und produzierte viele TV-Dokumentationen. Seine Werke wurden mit zahlreichen Preisen ausgezeichnet\, unter anderem mit einer Ehrenmedaille der Royal Geographic Society. Zuletzt erhielt er den Gregor International Calendar Award und den ITB Book Award für sein Lebenswerk. Das Magazin GEO hat Michael Martin ein eigenes GEO extra gewidmet \n  \n\n\n\nEinlass 18:30 Uhr\nBeginn 19:00 Uhr \nSitzveranstaltung \n    Mit dem Laden des Videos akzeptieren Sie die Datenschutzerklärung von YouTube.Mehr erfahren  Video laden   YouTube immer entsperren
URL:https://www.kulturscheune-hoechberg.de/event/michaelmartin/
LOCATION:Kulturscheune Höchberg\, Wallweg 3\, Höchberg\, 97204
CATEGORIES:Film,Multivision,Vortrag
ATTACH;FMTTYPE=image/jpeg:https://www.kulturscheune-hoechberg.de/wp-content/uploads/2022/11/Vulkan-Yasur-im-Suedpazifik-scaled.jpg
GEO:49.7829227;9.878644
X-APPLE-STRUCTURED-LOCATION;VALUE=URI;X-ADDRESS=Kulturscheune Höchberg Wallweg 3 Höchberg 97204;X-APPLE-RADIUS=500;X-TITLE=Wallweg 3:geo:9.878644,49.7829227
END:VEVENT
END:VCALENDAR