BEGIN:VCALENDAR
VERSION:2.0
PRODID:-//kulturscheune höchberg - ECPv5.8.0//NONSGML v1.0//EN
CALSCALE:GREGORIAN
METHOD:PUBLISH
X-WR-CALNAME:kulturscheune höchberg
X-ORIGINAL-URL:https://www.kulturscheune-hoechberg.de
X-WR-CALDESC:Veranstaltungen für kulturscheune höchberg
BEGIN:VTIMEZONE
TZID:Europe/Berlin
BEGIN:DAYLIGHT
TZOFFSETFROM:+0100
TZOFFSETTO:+0200
TZNAME:CEST
DTSTART:20240331T010000
END:DAYLIGHT
BEGIN:STANDARD
TZOFFSETFROM:+0200
TZOFFSETTO:+0100
TZNAME:CET
DTSTART:20241027T010000
END:STANDARD
END:VTIMEZONE
BEGIN:VEVENT
DTSTART;TZID=Europe/Berlin:20240223T193000
DTEND;TZID=Europe/Berlin:20240223T193000
DTSTAMP:20260421T225308
CREATED:20231115T083046Z
LAST-MODIFIED:20240213T064752Z
UID:2508-1708716600-1708716600@www.kulturscheune-hoechberg.de
SUMMARY:Männerschnupfen 2
DESCRIPTION:von Marie Matthäus und Peter Buchenau \nNach über 1000 erfolgreich aufgeführten Männerschupfen Shows\, in denen das Endprodukt aus Adams geformter Rippe endlich ausführlich über die wahren Leiden und Gründe des furchtbar schmerzhaften Männerschnupfens aufgeklärt wurde\, wird es nun Zeit für eine Fortsetzung! \nLiebe Männer\, bereiten Sie sich seelisch darauf vor\, zu erfahren\, was Frauen alles aushecken\, um das männliche Geschlecht zu erobern\, zu beeinflussen und ja\, um es final zu beherrschen! Ob ihnen das wirklich gelingen wird? \nWarum Männer einfach mehr leiden als Frauen\, wenn sie krank sind\, wurde ja bereits geklärt. Aber wie erreicht denn nun FRAU genügend Aufmerksamkeit und Liebe von ihrem Tagesabschnittsgefährten. Dass Frauen nie krank werden\, ist ein Märchen. Ja\, auch sie werden krank – gehen nur geschickter damit um. Egal ob Migräne\, PMS\, die Wechseljahre oder aus einer Fliege einen Elefanten machen. Das alles sind nur auszugsweiße Geheimwaffen\, die das weibliche Geschlecht einsetzt\, um die persönlichen Ziele zu erreichen. Und der Mann? Fällt meist darauf rein und lässt es über sich ergehen. Weil er gelernt hat\, dass er am Ende des Tages sowieso nicht gewinnen kann. So kämpft MANN zu Beginn des Kennenlernens zunächst um seine Vorherrschaft. Nach einem Jahr Zwangskooperation\, um irgendeine Form von Gleichberechtigung. Und nach drei Jahren nur noch ums nackte Überleben. \n\n\n\n\n\n\nEinlass 18:30 Uhr\nBeginn 19:30 Uhr \n  \n  \n\n 
URL:https://www.kulturscheune-hoechberg.de/event/maennerschnupfen2/
LOCATION:Kulturscheune Höchberg\, Wallweg 3\, Höchberg\, 97204
CATEGORIES:Kabarett
ATTACH;FMTTYPE=image/jpeg:https://www.kulturscheune-hoechberg.de/wp-content/uploads/2023/11/picture-1600.jpg
GEO:49.7829227;9.878644
X-APPLE-STRUCTURED-LOCATION;VALUE=URI;X-ADDRESS=Kulturscheune Höchberg Wallweg 3 Höchberg 97204;X-APPLE-RADIUS=500;X-TITLE=Wallweg 3:geo:9.878644,49.7829227
END:VEVENT
END:VCALENDAR