BEGIN:VCALENDAR
VERSION:2.0
PRODID:-//kulturscheune höchberg - ECPv5.8.0//NONSGML v1.0//EN
CALSCALE:GREGORIAN
METHOD:PUBLISH
X-WR-CALNAME:kulturscheune höchberg
X-ORIGINAL-URL:https://www.kulturscheune-hoechberg.de
X-WR-CALDESC:Veranstaltungen für kulturscheune höchberg
BEGIN:VTIMEZONE
TZID:Europe/Berlin
BEGIN:DAYLIGHT
TZOFFSETFROM:+0100
TZOFFSETTO:+0200
TZNAME:CEST
DTSTART:20240331T010000
END:DAYLIGHT
BEGIN:STANDARD
TZOFFSETFROM:+0200
TZOFFSETTO:+0100
TZNAME:CET
DTSTART:20241027T010000
END:STANDARD
END:VTIMEZONE
BEGIN:VEVENT
DTSTART;TZID=Europe/Berlin:20240324T193000
DTEND;TZID=Europe/Berlin:20240324T193000
DTSTAMP:20260426T024250
CREATED:20231115T083004Z
LAST-MODIFIED:20231108T114255Z
UID:2557-1711308600-1711308600@www.kulturscheune-hoechberg.de
SUMMARY:HG. Butzko
DESCRIPTION:ach ja\, \n  \nWer kennt nicht den Spruch: „Wir haben die Erde von unseren Kindern nur geliehen“? Aber mal ehrlich\, damit war doch nicht gemeint\, dass die Blagen das ernst nehmen\, die Leihgabe zurückfordern\, und bloß\, weil wir über unsere Verhältnisse gelebt haben\, keinen Kredit mehr gewähren. Da stellt sich doch die Frage: Wie konnte es nur so weit kommen?\nUnd weil HG. Butzko vor 25 Jahren anfing\, Kabarett zu machen\, wagt er jetzt einen Blick in die Mahnbescheide des letzten Vierteljahrhunderts und da zeigt sich: Es ist an der Zeit\, Bilanz zu ziehen und abzurechnen mit den Tricksern und Täuschern\, den Blinden und Blendern\, den Gewählten und Wählern\, den Metzgern und Kälbern.\nUnd deswegen beleuchtet der Gelsenkirchener Hirnschrittmacher des deutschen Kabaretts noch mal alle Lügen\, Vertuschungen und falschen Versprechungen der letzten 25 Jahre aus Politik\, Wirtschaft und Medien. Also nicht alle. Dann würde das Programm vier Tage dauern.\nAber wenn man verstehen will\, warum wir heute da stehen\, wo wir stehen\, müssen die Verbindlichkeiten der Vergangenheit vollstreckt werden\, damit das Unverbindliche in Zukunft auf der Strecke bleibt.\nAb jetzt wird zur Kasse gebeten. Spätestens beim Eintritt ins neue Kabarett mit HG. Butzko …. ach ja. \nEinlass 18:30 Uhr\nBeginn 19:30 Uhr
URL:https://www.kulturscheune-hoechberg.de/event/hgbutzko/
LOCATION:Kulturscheune Höchberg\, Wallweg 3\, Höchberg\, 97204
CATEGORIES:Kabarett
ATTACH;FMTTYPE=image/jpeg:https://www.kulturscheune-hoechberg.de/wp-content/uploads/2023/11/HGButzko2022_ach-ja_Pressefoto_20x28cm_400dpi_©TorstenSilz-scaled.jpg
GEO:49.7829227;9.878644
X-APPLE-STRUCTURED-LOCATION;VALUE=URI;X-ADDRESS=Kulturscheune Höchberg Wallweg 3 Höchberg 97204;X-APPLE-RADIUS=500;X-TITLE=Wallweg 3:geo:9.878644,49.7829227
END:VEVENT
END:VCALENDAR