BEGIN:VCALENDAR
VERSION:2.0
PRODID:-//kulturscheune höchberg - ECPv5.8.0//NONSGML v1.0//EN
CALSCALE:GREGORIAN
METHOD:PUBLISH
X-WR-CALNAME:kulturscheune höchberg
X-ORIGINAL-URL:https://www.kulturscheune-hoechberg.de
X-WR-CALDESC:Veranstaltungen für kulturscheune höchberg
BEGIN:VTIMEZONE
TZID:Europe/Berlin
BEGIN:DAYLIGHT
TZOFFSETFROM:+0100
TZOFFSETTO:+0200
TZNAME:CEST
DTSTART:20220327T010000
END:DAYLIGHT
BEGIN:STANDARD
TZOFFSETFROM:+0200
TZOFFSETTO:+0100
TZNAME:CET
DTSTART:20221030T010000
END:STANDARD
END:VTIMEZONE
BEGIN:VEVENT
DTSTART;TZID=Europe/Berlin:20221030T150000
DTEND;TZID=Europe/Berlin:20221030T150000
DTSTAMP:20260419T220127
CREATED:20220801T092811Z
LAST-MODIFIED:20221012T073044Z
UID:1281-1667142000-1667142000@www.kulturscheune-hoechberg.de
SUMMARY:Circo Piccolo Mondo
DESCRIPTION:Eine Veranstaltung der Bürgerstiftung Höchberg. Einen Teil der Karten vergibt die Bürgerstiftung an die Kulturtafel Würzburg e.V. \nDie Bürgerstiftung Höchberg stellt sich vor: Um bürgerliches Engagement\, Zusammenhalt und Gemeinschaft zu fördern wurde die Bürgerstiftung Markt Höchberg gegründet. Von Höchbergern für Höchberger. Für alles\, was Höchberg bewegt\, z.B. Projekte aus folgenden Bereichen: die Jugend- und Altenhilfe\, Kunst- und Kultur\, Denkmalschutz und Denkmalpflege\, Bildung und Ausbildung\, naturschutz und Landschaftspflege\, Sport\, die Heimatpflege und Heimatkunde\, mildtätige Zwecke sowie bürgerliches Engagement zu Gunsten gemeinnütziger Zwecke. \nBeschreibungstext Veranstaltung \nClown Frosch ist groß und ein bisschen dick und er will so gerne Artist sein . \nEr träumt von Höhenflügen am Trapez und einer Karriere als Seiltänzerin…..wenn er nur nicht so schüchtern wäre! Aber da gibt es ja noch den kleinen und ziemlich derben Direktor Wampolino\, der Clown Frosch immer wieder an die Arbeit scheucht. Denn Clown Frosch ist der einzige Artist\, den der Direktor hat. Dann heißt es – ran an den Akrobatikstuhl und aufs (zenti-) meterhohe Seil\, her mit den Jonglierkeulen und zwar immer mit Geige und Akkordeon! Frosch und Wampolino raufen miteinander\, sie streiten und versöhnen sich und am Schluß regnets Konfetti! Hilfreich zur Seite stehen den Beiden ihre ganze “ Familie „\, die stets im Publikum auf sie wartet. \nEin eigenwilliges und turbulentes Clownstheater für kleine und große Leute zwischen 4 und 104 Jahren. \nSpieldauer: Ca. 50 – 60 Minuten. \nEinlass ab 14:30 Uhr\, Beginn 15 Uhr \nBitte beachten Sie: die ersten Reihen sind ausschließlich für die Kinder reserviert. \n  \n  \n 
URL:https://www.kulturscheune-hoechberg.de/event/circusfrosch1/
LOCATION:Kulturscheune Höchberg\, Wallweg 3\, Höchberg\, 97204
CATEGORIES:Für Kinder,Theater
ATTACH;FMTTYPE=image/jpeg:https://www.kulturscheune-hoechberg.de/wp-content/uploads/2022/08/CircusFrosch_mitLogo-scaled.jpg
GEO:49.7829227;9.878644
X-APPLE-STRUCTURED-LOCATION;VALUE=URI;X-ADDRESS=Kulturscheune Höchberg Wallweg 3 Höchberg 97204;X-APPLE-RADIUS=500;X-TITLE=Wallweg 3:geo:9.878644,49.7829227
END:VEVENT
END:VCALENDAR