BEGIN:VCALENDAR
VERSION:2.0
PRODID:-//kulturscheune höchberg - ECPv5.8.0//NONSGML v1.0//EN
CALSCALE:GREGORIAN
METHOD:PUBLISH
X-WR-CALNAME:kulturscheune höchberg
X-ORIGINAL-URL:https://www.kulturscheune-hoechberg.de
X-WR-CALDESC:Veranstaltungen für kulturscheune höchberg
BEGIN:VTIMEZONE
TZID:Europe/Berlin
BEGIN:DAYLIGHT
TZOFFSETFROM:+0100
TZOFFSETTO:+0200
TZNAME:CEST
DTSTART:20240331T010000
END:DAYLIGHT
BEGIN:STANDARD
TZOFFSETFROM:+0200
TZOFFSETTO:+0100
TZNAME:CET
DTSTART:20241027T010000
END:STANDARD
END:VTIMEZONE
BEGIN:VEVENT
DTSTART;TZID=Europe/Berlin:20241208T150000
DTEND;TZID=Europe/Berlin:20241208T150000
DTSTAMP:20260425T133954
CREATED:20231115T083007Z
LAST-MODIFIED:20241118T081128Z
UID:2725-1733670000-1733670000@www.kulturscheune-hoechberg.de
SUMMARY:Alle Jahre wieder
DESCRIPTION:Mitmach-Musiktheater für Kinder ab 3 Jahren\nEine Inszenierung des Theater Mär\n \nAlle Jahre wieder – Zwei Rentiere singen Weihnachtslieder \nDie beiden Rentiere Uwe und Peter haben sich in Mützen und Schale geworfen\, denn der Winter und damit auch Weihnachten stehen vor der Tür. Und jetzt warten sie. Natürlich auf den Weihnachtsmann. \nUnd damit ihnen nicht langweilig wird\, singen sie Lieder\, lauschen dem Winter und erforschen den Klang der fünften Jahreszeit. Dabei haben die beiden als Rentiere ihre ganz eigene Sicht auf Weihnachten. \nMit der zweiten Kooperation von Theater Mär und Theater Triebwerk knüpfen wir an den schönen Erfolg von „das Papperlapapp der Tiere“ an und sind gespannt\, wie die beiden die Geräusche\, Klänge\, Melodien rund um Zimtstern\, Schnee und Tannengrün ergründen… \nWieder mit Ukulele\, Cello und Geschichten im Gepäck. \n  \nEinlass 14:30 Uhr \nBeginn 15 Uhr \n© Daniel Wolcke \nBitte beachten Sie: die ersten Reihen sind ausschließlich für Kinder. \n  \n    Mit dem Laden des Videos akzeptieren Sie die Datenschutzerklärung von YouTube.Mehr erfahren  Video laden   YouTube immer entsperren
URL:https://www.kulturscheune-hoechberg.de/event/allejahrewieder/
LOCATION:Kulturscheune Höchberg\, Wallweg 3\, Höchberg\, 97204
CATEGORIES:Für Kinder,Konzert,Theater
ATTACH;FMTTYPE=image/jpeg:https://www.kulturscheune-hoechberg.de/wp-content/uploads/2023/11/alle-jahre-wieder-galerie-1_©DanielWolcke.jpg
GEO:49.7829227;9.878644
X-APPLE-STRUCTURED-LOCATION;VALUE=URI;X-ADDRESS=Kulturscheune Höchberg Wallweg 3 Höchberg 97204;X-APPLE-RADIUS=500;X-TITLE=Wallweg 3:geo:9.878644,49.7829227
END:VEVENT
END:VCALENDAR