BEGIN:VCALENDAR
VERSION:2.0
PRODID:-//kulturscheune höchberg - ECPv5.8.0//NONSGML v1.0//EN
CALSCALE:GREGORIAN
METHOD:PUBLISH
X-WR-CALNAME:kulturscheune höchberg
X-ORIGINAL-URL:https://www.kulturscheune-hoechberg.de
X-WR-CALDESC:Veranstaltungen für kulturscheune höchberg
BEGIN:VTIMEZONE
TZID:Europe/Berlin
BEGIN:DAYLIGHT
TZOFFSETFROM:+0100
TZOFFSETTO:+0200
TZNAME:CEST
DTSTART:20260329T010000
END:DAYLIGHT
BEGIN:STANDARD
TZOFFSETFROM:+0200
TZOFFSETTO:+0100
TZNAME:CET
DTSTART:20261025T010000
END:STANDARD
END:VTIMEZONE
BEGIN:VEVENT
DTSTART;TZID=Europe/Berlin:20260201T150000
DTEND;TZID=Europe/Berlin:20260201T150000
DTSTAMP:20260420T114009
CREATED:20251001T095329Z
LAST-MODIFIED:20260203T140457Z
UID:4004-1769958000-1769958000@www.kulturscheune-hoechberg.de
SUMMARY:Die Bremer Stadtmusikanten
DESCRIPTION:Für Kinder von 5 – 93. \nEsel\, Hund\, Katze und Hahn sind ratlos. Ausgerechnet heute wurden ihnen\, den Bremer Stadtmusikanten\, die Noten für ihren großen Konzertauftritt gestohlen. Da hilft nur eins: Ein Detektiv muss her und den Täter aufspüren. Vertrauensvoll wenden sich die vier Haustiere an Tillmann Tinkenbrink\, den Besten seines Faches. Der bittet kurzerhand das Publikum ihn zu unterstützen und Augen und Ohren offen zu halten. Ein aufregendes Abenteuer über Mut\, Hoffnung und Freundschaft beginnt\, bei dem die jungen Nachwuchsdetektive den Spuren des beliebten Märchens der Gebrüder Grimm folgen. Gemeinsam nehmen sie es mit einer Räuberbande auf und verfeinern ihre detektivischen und musikalischen Fertigkeiten. Können sie so gemeinsam das Konzert der tierischen Stars retten? \nDas Maruti Quintett spielt in diesem Kinderkonzert ein Arrangement von Jochen Müller-Brincken\, der das bekannte Volkslied „Das Wandern ist des Müllers Lust“ nach Carl Friedrich Zöllner zum musikalischen Hauptmotiv macht und es mit Zitaten großer Komponisten paart. Die jungen Zuhörerinnen und Zuhörer werden durch Singen\, Bewegen und Rhythmusspiele aktiv mit in das Konzertgeschehen eingebunden. Gemeinsam mit Jonathan Danigel als Detektiv und Erzähler begleiten sie die vier ausgedienten Tiere auf der Suche nach einem neuen Zuhause und ihrer wahren Identität. In einem Bühnenbild wie aus dem Kinderbuch nehmen sie das Märchen der Bremer Stadtmusikanten genauer unter die Lupe und werden aufgefordert\, sich wie Hund\, Esel\, Katze und Hahn auszuprobieren\, um ihre Talente zu entdecken. Dieses detektivische Mitmachkonzert – liebevoll erzählt und mit überraschenden (musikalischen) Wendungen – wird zum Erlebnis für die ganze Familie! \nHinweis: Die ersten Reihen sind für die Kinder reserviert. Erwachsene nehmen bitte ab der Reihe 5 Platz! \nEinlass 14:30 Uhr \nBeginn 15 Uhr \n    Mit dem Laden des Videos akzeptieren Sie die Datenschutzerklärung von YouTube.Mehr erfahren  Video laden   YouTube immer entsperren
URL:https://www.kulturscheune-hoechberg.de/event/260201/
LOCATION:Kulturscheune Höchberg\, Wallweg 3\, Höchberg\, 97204
CATEGORIES:Für Kinder,Konzert,Theater
ATTACH;FMTTYPE=image/jpeg:https://www.kulturscheune-hoechberg.de/wp-content/uploads/2025/08/AG1A1785-Verbessert-RR-2.jpg
GEO:49.7829227;9.878644
X-APPLE-STRUCTURED-LOCATION;VALUE=URI;X-ADDRESS=Kulturscheune Höchberg Wallweg 3 Höchberg 97204;X-APPLE-RADIUS=500;X-TITLE=Wallweg 3:geo:9.878644,49.7829227
END:VEVENT
END:VCALENDAR