BEGIN:VCALENDAR
VERSION:2.0
PRODID:-//kulturscheune höchberg - ECPv5.8.0//NONSGML v1.0//EN
CALSCALE:GREGORIAN
METHOD:PUBLISH
X-WR-CALNAME:kulturscheune höchberg
X-ORIGINAL-URL:https://www.kulturscheune-hoechberg.de
X-WR-CALDESC:Veranstaltungen für kulturscheune höchberg
BEGIN:VTIMEZONE
TZID:Europe/Berlin
BEGIN:DAYLIGHT
TZOFFSETFROM:+0100
TZOFFSETTO:+0200
TZNAME:CEST
DTSTART:20260329T010000
END:DAYLIGHT
BEGIN:STANDARD
TZOFFSETFROM:+0200
TZOFFSETTO:+0100
TZNAME:CET
DTSTART:20261025T010000
END:STANDARD
END:VTIMEZONE
BEGIN:VEVENT
DTSTART;TZID=Europe/Berlin:20261023T193000
DTEND;TZID=Europe/Berlin:20261023T193000
DTSTAMP:20260426T052940
CREATED:20260311T070056Z
LAST-MODIFIED:20260311T071127Z
UID:4817-1792783800-1792783800@www.kulturscheune-hoechberg.de
SUMMARY:Eisi Gulp
DESCRIPTION:Der Vorverkauf beginnt am Samstag 14.03.! \nEISI GULP \n„Tagebuch eines Komikers“ – das neue Solo-Comedy-Programm von „Papa Eberhofer“ \nSpätestens seit den neun Eberhofer-Krimi-Verfilmungen kennt ihn wohl jeder als den kiffenden Film-Papa des Polizisten Franz Eberhofer. Seit 2015 spielt er in „Dahoam is daoham“ und er hat in unzähligen anderen Spielfilmen und Serien mitgewirkt.  Bereits Anfang der 1980er Jahre wurde er bekannt durch die „Eisi Gulp Show“ und die BR-Sendung „Live aus dem Alabama“. \nNach vielen Jahren\, in denen er vor allem als Film- und Theaterschauspieler aktiv war\, was ihm im deutschsprachigen Raum zu großer Bekanntheit und Beliebtheit verhalf\, meldet er sich nun nach längerer Abstinenz mit seinem brandneuen Programm als Stand-Up-Comedian zurück! Nach der hochgelobten Premiere bei den Luisenburg-Festspielen ist der Kult-Comedian seit 2024 im deutschsprachigen Raum mit „Tagebuch eines Komikers“ auf seiner Comeback-Tournee\, deren erster Abschnitt im Jahr 2024 in allen Städten ausverkauft war\, teils sogar mehrfach. \nEisi ist ein vielseitiger Komiker\, dessen Körper so sprachgewaltig ist wie sein Geist und der gleichzeitig mit Wortwitz\, Mimik und Bewegungen perfekt zu jonglieren weiß\, während er höchst unterhaltsame Anekdoten aus seinem Leben erzählt. \nWerner Eisenrieder\, wie der Münchener bürgerlich heißt\, ist aber nicht nur Schauspieler und Komiker\, er hat ebenso Tanz in New York sowie Akrobatik und Stunt in Paris studiert – ein wahrer Allround-Künstler. \nEin Abend\, der sicher die Lachmuskeln bis zum äußersten strapazieren wird\, ist garantiert. Und natürlich darf sich das Publikum auch auf seine legendären Tanzeinlagen freuen. \n  \nEinlass 18:30 Uhr\nBeginn 19:30 Uhr \n\n\n\nSitzveranstaltung
URL:https://www.kulturscheune-hoechberg.de/event/20261023/
LOCATION:Kulturscheune Höchberg\, Wallweg 3\, Höchberg\, 97204
CATEGORIES:Kabarett
ATTACH;FMTTYPE=image/jpeg:https://www.kulturscheune-hoechberg.de/wp-content/uploads/2026/03/06_03_2026_Eisi_Gulp_c_Ewa_Wiese-af88a2cb.jpg
GEO:49.7829227;9.878644
X-APPLE-STRUCTURED-LOCATION;VALUE=URI;X-ADDRESS=Kulturscheune Höchberg Wallweg 3 Höchberg 97204;X-APPLE-RADIUS=500;X-TITLE=Wallweg 3:geo:9.878644,49.7829227
END:VEVENT
END:VCALENDAR