BEGIN:VCALENDAR
VERSION:2.0
PRODID:-//kulturscheune höchberg - ECPv5.8.0//NONSGML v1.0//EN
CALSCALE:GREGORIAN
METHOD:PUBLISH
X-WR-CALNAME:kulturscheune höchberg
X-ORIGINAL-URL:https://www.kulturscheune-hoechberg.de
X-WR-CALDESC:Veranstaltungen für kulturscheune höchberg
BEGIN:VTIMEZONE
TZID:Europe/Berlin
BEGIN:DAYLIGHT
TZOFFSETFROM:+0100
TZOFFSETTO:+0200
TZNAME:CEST
DTSTART:20250330T010000
END:DAYLIGHT
BEGIN:STANDARD
TZOFFSETFROM:+0200
TZOFFSETTO:+0100
TZNAME:CET
DTSTART:20251026T010000
END:STANDARD
END:VTIMEZONE
BEGIN:VEVENT
DTSTART;TZID=Europe/Berlin:20251121T193000
DTEND;TZID=Europe/Berlin:20251121T193000
DTSTAMP:20260421T150144
CREATED:20250311T145421Z
LAST-MODIFIED:20250730T080011Z
UID:3716-1763753400-1763753400@www.kulturscheune-hoechberg.de
SUMMARY:Bardomaniacs
DESCRIPTION:Wenn die BARDOMANIACS spielen\, ist was los: Jazz und Schlager\, Tango und Balkanbeat\, Polka und Reggae – nonchalant gemischt und unverstärkt akustisch!  \nDie wunderbaren Drei haben ihr Publikum zwischen Schweden und der Schweiz reihenweise aus den Sitzen gerissen\, zwischen Schwedt und Schwetzingen vielen das Herz aufgehen lassen. Sie sind … einfach grandios. \nFolklore und Klassik\, Jazz und Pop\, Punk und Funk klingen bei den Bardomaniacs nach-\, über- und vor allem miteinander! \nMit Akkordeon\, Baritonsax und schrägem Schlagwerk spannt sich der musikalische Bogen von Polka zu Musette-Walzern\, vom Zwiefachen zum Tango\, von Giuseppe Verdi zu Miles Davis\, von krummen Balkan-Beats zu fetten Hiphop-Grooves. Und Singen tun die Drei auch noch! \nWenn das Ganze dann auch noch mit viel Spaß und Sinn für den Unsinn präsentiert wird\, lässt sich das Publikum nur allzu gerne einladen\, den Musikern auf eine phantastische\, spannende und abwechslungsreiche Reise zu folgen. \nEinlass 18:30 Uhr\nBeginn 19:30 Uhr \nSitzveranstaltung \n    Mit dem Laden des Videos akzeptieren Sie die Datenschutzerklärung von YouTube.Mehr erfahren  Video laden   YouTube immer entsperren    \n    Mit dem Laden des Videos akzeptieren Sie die Datenschutzerklärung von YouTube.Mehr erfahren  Video laden   YouTube immer entsperren
URL:https://www.kulturscheune-hoechberg.de/event/20251121/
LOCATION:Kulturscheune Höchberg\, Wallweg 3\, Höchberg\, 97204
CATEGORIES:Konzert,Weltmusik
ATTACH;FMTTYPE=image/jpeg:https://www.kulturscheune-hoechberg.de/wp-content/uploads/2022/06/Bardomaniacs_2.jpg
GEO:49.7829227;9.878644
X-APPLE-STRUCTURED-LOCATION;VALUE=URI;X-ADDRESS=Kulturscheune Höchberg Wallweg 3 Höchberg 97204;X-APPLE-RADIUS=500;X-TITLE=Wallweg 3:geo:9.878644,49.7829227
END:VEVENT
END:VCALENDAR