BEGIN:VCALENDAR
VERSION:2.0
PRODID:-//kulturscheune höchberg - ECPv5.8.0//NONSGML v1.0//EN
CALSCALE:GREGORIAN
METHOD:PUBLISH
X-WR-CALNAME:kulturscheune höchberg
X-ORIGINAL-URL:https://www.kulturscheune-hoechberg.de
X-WR-CALDESC:Veranstaltungen für kulturscheune höchberg
BEGIN:VTIMEZONE
TZID:Europe/Berlin
BEGIN:DAYLIGHT
TZOFFSETFROM:+0100
TZOFFSETTO:+0200
TZNAME:CEST
DTSTART:20250330T010000
END:DAYLIGHT
BEGIN:STANDARD
TZOFFSETFROM:+0200
TZOFFSETTO:+0100
TZNAME:CET
DTSTART:20251026T010000
END:STANDARD
END:VTIMEZONE
BEGIN:VEVENT
DTSTART;TZID=Europe/Berlin:20251115T193000
DTEND;TZID=Europe/Berlin:20251115T193000
DTSTAMP:20260421T122429
CREATED:20250227T153358Z
LAST-MODIFIED:20250305T090047Z
UID:3688-1763235000-1763235000@www.kulturscheune-hoechberg.de
SUMMARY:Holger Paetz
DESCRIPTION:Die Fleischlosen sind auf dem Vormarsch. Holger Paetz wird mitmarschieren. Raspeln\, schälen\, hacken und jedes Blatt einzeln veredeln. Das Ziel lohnt: Mehr Vitalität\, mehr Gesundheit\, mehr pures Leben. Schönere Frauen\, schnellere Autos. Alles wird gut. \nAndererseits: Alle wirklich gefährlichen Lebensmittel sind voll aus Pflanze! Heroin. Kokain. Alkohol. Wodka wird nur selten aus Rindfleisch gekeltert. Und was sagt die Politik? Ist ein Veganer in der CSU überhaupt denkbar? Und falls ja\, dürfte man ihn noch zur Kommunion lassen? \nEin Stück über Lebensqualität\, Fleisch(ess)lust\, Tierliebe\, Pudding-Veganer und Gesottenes mit grüner Soße. \nEinlass 18:30 Uhr\nBeginn 19:30 Uhr
URL:https://www.kulturscheune-hoechberg.de/event/20251115/
LOCATION:Kulturscheune Höchberg\, Wallweg 3\, Höchberg\, 97204
CATEGORIES:Kabarett
ATTACH;FMTTYPE=image/jpeg:https://www.kulturscheune-hoechberg.de/wp-content/uploads/2025/02/hp_veganer_2024_pr_1-scaled.jpg
GEO:49.7829227;9.878644
X-APPLE-STRUCTURED-LOCATION;VALUE=URI;X-ADDRESS=Kulturscheune Höchberg Wallweg 3 Höchberg 97204;X-APPLE-RADIUS=500;X-TITLE=Wallweg 3:geo:9.878644,49.7829227
END:VEVENT
END:VCALENDAR