BEGIN:VCALENDAR
VERSION:2.0
PRODID:-//kulturscheune höchberg - ECPv5.8.0//NONSGML v1.0//EN
CALSCALE:GREGORIAN
METHOD:PUBLISH
X-WR-CALNAME:kulturscheune höchberg
X-ORIGINAL-URL:https://www.kulturscheune-hoechberg.de
X-WR-CALDESC:Veranstaltungen für kulturscheune höchberg
BEGIN:VTIMEZONE
TZID:Europe/Berlin
BEGIN:DAYLIGHT
TZOFFSETFROM:+0100
TZOFFSETTO:+0200
TZNAME:CEST
DTSTART:20250330T010000
END:DAYLIGHT
BEGIN:STANDARD
TZOFFSETFROM:+0200
TZOFFSETTO:+0100
TZNAME:CET
DTSTART:20251026T010000
END:STANDARD
END:VTIMEZONE
BEGIN:VEVENT
DTSTART;TZID=Europe/Berlin:20250514T170000
DTEND;TZID=Europe/Berlin:20250514T170000
DTSTAMP:20260420T102403
CREATED:20250417T120216Z
LAST-MODIFIED:20250417T121125Z
UID:3801-1747242000-1747242000@www.kulturscheune-hoechberg.de
SUMMARY:Im Dialog
DESCRIPTION:Die Ausstellung widmet sich der Frage nach dem Dialog. Was uns bewegt und veranschaulicht die Vielfalt\, die der Dialog in unserer heutigen Gesellschaft führt. \nNie zuvor waren Menschen derART vielfältig miteinander vernetzt\, voneinander abhängig. Gemeinsam schaffen Schüler und Schülerinnen der 9. Jahrgangsstufe des Hauptfaches Kunst ein facettenreiches Bild zum Dialog. Fragen wie … \nWer? Mit wem? Wie? Was? Wann? Weshalb? … finden Antworten in malerei\, Zeichnungen und Installationen. \nAusstellung nur am 14. Mai um 17 Uhr.
URL:https://www.kulturscheune-hoechberg.de/event/20250514/
LOCATION:Kulturscheune Höchberg\, Wallweg 3\, Höchberg\, 97204
CATEGORIES:Ausstellung
ATTACH;FMTTYPE=image/jpeg:https://www.kulturscheune-hoechberg.de/wp-content/uploads/2025/04/Screenshot-2025-04-17-140830.jpg
GEO:49.7829227;9.878644
X-APPLE-STRUCTURED-LOCATION;VALUE=URI;X-ADDRESS=Kulturscheune Höchberg Wallweg 3 Höchberg 97204;X-APPLE-RADIUS=500;X-TITLE=Wallweg 3:geo:9.878644,49.7829227
END:VEVENT
END:VCALENDAR