BEGIN:VCALENDAR
VERSION:2.0
PRODID:-//kulturscheune höchberg - ECPv5.8.0//NONSGML v1.0//EN
CALSCALE:GREGORIAN
METHOD:PUBLISH
X-WR-CALNAME:kulturscheune höchberg
X-ORIGINAL-URL:https://www.kulturscheune-hoechberg.de
X-WR-CALDESC:Veranstaltungen für kulturscheune höchberg
BEGIN:VTIMEZONE
TZID:Europe/Berlin
BEGIN:DAYLIGHT
TZOFFSETFROM:+0100
TZOFFSETTO:+0200
TZNAME:CEST
DTSTART:20250330T010000
END:DAYLIGHT
BEGIN:STANDARD
TZOFFSETFROM:+0200
TZOFFSETTO:+0100
TZNAME:CET
DTSTART:20251026T010000
END:STANDARD
END:VTIMEZONE
BEGIN:VEVENT
DTSTART;TZID=Europe/Berlin:20250411T193000
DTEND;TZID=Europe/Berlin:20250411T193000
DTSTAMP:20260421T112236
CREATED:20241216T114026Z
LAST-MODIFIED:20241216T114308Z
UID:3551-1744399800-1744399800@www.kulturscheune-hoechberg.de
SUMMARY:Nico Theo Quartett
DESCRIPTION: Nico Theodossiadis leuchtet mit seiner solistischen „Stimme“ durch die dicht gestaffelten Musiktexturen des von ihm geleiteten Quartetts. Weltmusikalische Spuren durchziehen die Kompositionen\, erden diese und wirken als Kontrapunkt zur intensiven Dynamik des kompakten Bandsounds. Das Quartett wird trotz der „griechischen“ Färbung nie zur One Man Show des Bandleaders\, finden doch seine Kollegen genügend Freiräume\, um ihre eigenen Ideen und spielerischen Wege zu verfolgen.\n\nTrotz seiner Jugend hat sich das Quartett ein bereits sehr komplexes und ausgewogenes Klangbild erarbeitet\, das zwischen expressiven und balladesken Momenten geschickt dramaturgisch zu wechselt. In klassischer Besetzung\, die in der modernen Jazzgeschichte gut verankert ist\, gelingt es der Band\, neue\, ganz eigene Klangbilder zu zeichnen – ein Stil\, der bereits mit zahlreichen Preisen gewürdigt wurde\, darunter der renommierte internationale Jazzpreis von Burghausen. \n//Besetzung  \nNico Theodossiadis\\ Saxophone\, Flute\nVitaly Burtsev\\ Piano\nMichael Goldmann\\ E-Bass\nKonrad Patzig\\ Drums \n//Preise und Auszeichnungen  \n2018 Preisträger der Musikalischen Akademie e.v\n2019 Erster Platz der Musikalischen Akademie e.v.\n2020 Dritter Platz der Musikalischen Akademie e.v.\n2022 Zweiter Platz des europäischen Jazzwettbewerbs Burghausen\n2022 Erster Platz des Jazzwettbewerbs des bayerischen Jazzverbands \n  \n\nEinlass 18:30 Uhr\nBeginn 19:30 Uhr \n\n\n\nSitzveranstaltung \n©Viola Patzig \n 
URL:https://www.kulturscheune-hoechberg.de/event/20250411/
LOCATION:Kulturscheune Höchberg\, Wallweg 3\, Höchberg\, 97204
CATEGORIES:Jazz,Konzert
ATTACH;FMTTYPE=image/jpeg:https://www.kulturscheune-hoechberg.de/wp-content/uploads/2024/12/Bild_©Viola-Patzig-scaled.jpg
GEO:49.7829227;9.878644
X-APPLE-STRUCTURED-LOCATION;VALUE=URI;X-ADDRESS=Kulturscheune Höchberg Wallweg 3 Höchberg 97204;X-APPLE-RADIUS=500;X-TITLE=Wallweg 3:geo:9.878644,49.7829227
END:VEVENT
END:VCALENDAR